BEGIN:VCALENDAR
VERSION:2.0
PRODID:-//hacksw/handcal//NONSGML v1.0//EN
BEGIN:VEVENT
UID:16003
DTSTART;VALUE=DATE:20221207
URL;VALUE=URI:ohschonhell.at/?page_id=35688
SUMMARY:Istros - Crazy Thursday´s
LOCATION:Istros Bar
END:VEVENT
END:VCALENDAR


