BEGIN:VCALENDAR
VERSION:2.0
PRODID:-//hacksw/handcal//NONSGML v1.0//EN
BEGIN:VEVENT
UID:16004
DTSTART;VALUE=DATE:20221215
URL;VALUE=URI:ohschonhell.at/?page_id=35690
SUMMARY:Istros - Crazy Thursday´s
LOCATION:Istros Bar
END:VEVENT
END:VCALENDAR


