BEGIN:VCALENDAR
VERSION:2.0
PRODID:-//hacksw/handcal//NONSGML v1.0//EN
BEGIN:VEVENT
UID:1601
DTSTART;VALUE=DATE:20140702
URL;VALUE=URI:ohschonhell.at/?page_id=4151
SUMMARY:WASABI WEDNESDAYS JULI w/ Rik Moser (Meuterei)
LOCATION:DOTS twentyone
END:VEVENT
END:VCALENDAR


