BEGIN:VCALENDAR
VERSION:2.0
PRODID:-//hacksw/handcal//NONSGML v1.0//EN
BEGIN:VEVENT
UID:16014
DTSTART;VALUE=DATE:20221116
URL;VALUE=URI:ohschonhell.at/?page_id=35710
SUMMARY:CHEVAL fatale w/ Dennis Felix & Albin Brezlan
LOCATION:Der Ponyhof
END:VEVENT
END:VCALENDAR


