BEGIN:VCALENDAR
VERSION:2.0
PRODID:-//hacksw/handcal//NONSGML v1.0//EN
BEGIN:VEVENT
UID:16016
DTSTART;VALUE=DATE:20221119
URL;VALUE=URI:ohschonhell.at/?page_id=35714
SUMMARY:❒ Fixstern_Furor Exotica LIVE (AR)
LOCATION:Der Ponyhof
END:VEVENT
END:VCALENDAR


