BEGIN:VCALENDAR
VERSION:2.0
PRODID:-//hacksw/handcal//NONSGML v1.0//EN
BEGIN:VEVENT
UID:16028
DTSTART;VALUE=DATE:20221118
URL;VALUE=URI:ohschonhell.at/?page_id=35738
SUMMARY:ELECTRIC RODEO
LOCATION:Der Ponyhof
END:VEVENT
END:VCALENDAR


