BEGIN:VCALENDAR
VERSION:2.0
PRODID:-//hacksw/handcal//NONSGML v1.0//EN
BEGIN:VEVENT
UID:16029
DTSTART;VALUE=DATE:20221112
URL;VALUE=URI:ohschonhell.at/?page_id=35740
SUMMARY:Deep Baked @ Sass
LOCATION:SASS
END:VEVENT
END:VCALENDAR


