BEGIN:VCALENDAR
VERSION:2.0
PRODID:-//hacksw/handcal//NONSGML v1.0//EN
BEGIN:VEVENT
UID:1610
DTSTART;VALUE=DATE:20140718
URL;VALUE=URI:ohschonhell.at/?page_id=4165
SUMMARY:VIENNOISE #7 feat. Kollektiv/Rauschen
LOCATION:AUSLAGE
END:VEVENT
END:VCALENDAR


