BEGIN:VCALENDAR
VERSION:2.0
PRODID:-//hacksw/handcal//NONSGML v1.0//EN
BEGIN:VEVENT
UID:16115
DTSTART;VALUE=DATE:20221231
URL;VALUE=URI:ohschonhell.at/?page_id=35930
SUMMARY:/\ SILVESTER-SAUSE /\ 31.12.2022 /\ powered by Katerfrühstück.
LOCATION:Bolena Restaurant - Weinbar - Partyraum
END:VEVENT
END:VCALENDAR


