BEGIN:VCALENDAR
VERSION:2.0
PRODID:-//hacksw/handcal//NONSGML v1.0//EN
BEGIN:VEVENT
UID:16124
DTSTART;VALUE=DATE:20221203
URL;VALUE=URI:ohschonhell.at/?page_id=35948
SUMMARY:Rhythm Science w/ Delasflores
LOCATION:SASS
END:VEVENT
END:VCALENDAR


