BEGIN:VCALENDAR
VERSION:2.0
PRODID:-//hacksw/handcal//NONSGML v1.0//EN
BEGIN:VEVENT
UID:1613
DTSTART;VALUE=DATE:20140706
URL;VALUE=URI:ohschonhell.at/?page_id=4168
SUMMARY:Porto Pollo &quot\;Grill and Chill&quot\;
LOCATION:PORTO POLLO
END:VEVENT
END:VCALENDAR


