BEGIN:VCALENDAR
VERSION:2.0
PRODID:-//hacksw/handcal//NONSGML v1.0//EN
BEGIN:VEVENT
UID:16142
DTSTART;VALUE=DATE:20221217
URL;VALUE=URI:ohschonhell.at/?page_id=35984
SUMMARY:Psychedelic Forest Dance Part 2
LOCATION:Club Change
END:VEVENT
END:VCALENDAR


