BEGIN:VCALENDAR
VERSION:2.0
PRODID:-//hacksw/handcal//NONSGML v1.0//EN
BEGIN:VEVENT
UID:16145
DTSTART;VALUE=DATE:20221208
URL;VALUE=URI:ohschonhell.at/?page_id=35991
SUMMARY:AFTERHOUR mit AKALI AKALI & POLYXENE
LOCATION:Black Market
END:VEVENT
END:VCALENDAR


