BEGIN:VCALENDAR
VERSION:2.0
PRODID:-//hacksw/handcal//NONSGML v1.0//EN
BEGIN:VEVENT
UID:16163
DTSTART;VALUE=DATE:20221215
URL;VALUE=URI:ohschonhell.at/?page_id=36028
SUMMARY:Raveladen #21
LOCATION:Kramladen
END:VEVENT
END:VCALENDAR


