BEGIN:VCALENDAR
VERSION:2.0
PRODID:-//hacksw/handcal//NONSGML v1.0//EN
BEGIN:VEVENT
UID:16175
DTSTART;VALUE=DATE:20221221
URL;VALUE=URI:ohschonhell.at/?page_id=36056
SUMMARY:CHEVAL fatale w/ Nick Hanzo
LOCATION:Der Ponyhof
END:VEVENT
END:VCALENDAR


