BEGIN:VCALENDAR
VERSION:2.0
PRODID:-//hacksw/handcal//NONSGML v1.0//EN
BEGIN:VEVENT
UID:16189
DTSTART;VALUE=DATE:20221217
URL;VALUE=URI:ohschonhell.at/?page_id=36084
SUMMARY:The Nightmare before Christmas w/ Löwenzahn
LOCATION:Kramladen
END:VEVENT
END:VCALENDAR


