BEGIN:VCALENDAR
VERSION:2.0
PRODID:-//hacksw/handcal//NONSGML v1.0//EN
BEGIN:VEVENT
UID:1619
DTSTART;VALUE=DATE:20140718
URL;VALUE=URI:ohschonhell.at/?page_id=4174
SUMMARY:DeeP ViSiONS
LOCATION:SUMMER STATION
END:VEVENT
END:VCALENDAR


