BEGIN:VCALENDAR
VERSION:2.0
PRODID:-//hacksw/handcal//NONSGML v1.0//EN
BEGIN:VEVENT
UID:16204
DTSTART;VALUE=DATE:20230128
URL;VALUE=URI:ohschonhell.at/?page_id=36119
SUMMARY:Switch! feat. Used\, Obbley\, MC Jimmy Danger
LOCATION:FLEX
END:VEVENT
END:VCALENDAR


