BEGIN:VCALENDAR
VERSION:2.0
PRODID:-//hacksw/handcal//NONSGML v1.0//EN
BEGIN:VEVENT
UID:16220
DTSTART;VALUE=DATE:20230106
URL;VALUE=URI:ohschonhell.at/?page_id=36152
SUMMARY:RAVELADEN #22
LOCATION:Kramladen
END:VEVENT
END:VCALENDAR


