BEGIN:VCALENDAR
VERSION:2.0
PRODID:-//hacksw/handcal//NONSGML v1.0//EN
BEGIN:VEVENT
UID:16221
DTSTART;VALUE=DATE:20220106
URL;VALUE=URI:ohschonhell.at/?page_id=36155
SUMMARY:AFTERHOUR mit JOHANNES HAIDIN - 5h extended set
LOCATION:Black Market
END:VEVENT
END:VCALENDAR


