BEGIN:VCALENDAR
VERSION:2.0
PRODID:-//hacksw/handcal//NONSGML v1.0//EN
BEGIN:VEVENT
UID:16231
DTSTART;VALUE=DATE:20230106
URL;VALUE=URI:ohschonhell.at/?page_id=36180
SUMMARY:MILLENIAL PUZZLED pres. Low Income $quad (Zagreb) w/ Strahinja Arbutina & more
LOCATION:RHIZ
END:VEVENT
END:VCALENDAR


