BEGIN:VCALENDAR
VERSION:2.0
PRODID:-//hacksw/handcal//NONSGML v1.0//EN
BEGIN:VEVENT
UID:16253
DTSTART;VALUE=DATE:20230114
URL;VALUE=URI:ohschonhell.at/?page_id=36224
SUMMARY:Midnightti w/ Magika
LOCATION:Kramladen
END:VEVENT
END:VCALENDAR


