BEGIN:VCALENDAR
VERSION:2.0
PRODID:-//hacksw/handcal//NONSGML v1.0//EN
BEGIN:VEVENT
UID:1626
DTSTART;VALUE=DATE:20140919
URL;VALUE=URI:ohschonhell.at/?page_id=4182
SUMMARY:Summer Exit Clubnight
LOCATION:VIENNA CITY BEACH CLUB
END:VEVENT
END:VCALENDAR


