BEGIN:VCALENDAR
VERSION:2.0
PRODID:-//hacksw/handcal//NONSGML v1.0//EN
BEGIN:VEVENT
UID:16260
DTSTART;VALUE=DATE:20230115
URL;VALUE=URI:ohschonhell.at/?page_id=36245
SUMMARY:AFTERHOUR mit CED & TRAVEK
LOCATION:Black Market
END:VEVENT
END:VCALENDAR


