BEGIN:VCALENDAR
VERSION:2.0
PRODID:-//hacksw/handcal//NONSGML v1.0//EN
BEGIN:VEVENT
UID:1627
DTSTART;VALUE=DATE:20140704
URL;VALUE=URI:ohschonhell.at/?page_id=4183
SUMMARY:HONIG ✚ DACHS ✚ PARTY ✚ B.VISIBLE x DJ KAPAZUNDA x ALLIGATORMAN
LOCATION:BRUT
END:VEVENT
END:VCALENDAR


