BEGIN:VCALENDAR
VERSION:2.0
PRODID:-//hacksw/handcal//NONSGML v1.0//EN
BEGIN:VEVENT
UID:16270
DTSTART;VALUE=DATE:20230217
URL;VALUE=URI:ohschonhell.at/?page_id=36267
SUMMARY:Goldspatz  <°v°> Local Suicide <°◇°> Naduve
LOCATION:Der Ponyhof
END:VEVENT
END:VCALENDAR


