BEGIN:VCALENDAR
VERSION:2.0
PRODID:-//hacksw/handcal//NONSGML v1.0//EN
BEGIN:VEVENT
UID:16272
DTSTART;VALUE=DATE:20230121
URL;VALUE=URI:ohschonhell.at/?page_id=36272
SUMMARY:PU$$¥ | a drag rave || AFTERPARTY
LOCATION:Black Market
END:VEVENT
END:VCALENDAR


