BEGIN:VCALENDAR
VERSION:2.0
PRODID:-//hacksw/handcal//NONSGML v1.0//EN
BEGIN:VEVENT
UID:16279
DTSTART;VALUE=DATE:20230120
URL;VALUE=URI:ohschonhell.at/?page_id=36286
SUMMARY:Lo-ve-Fi & Friends: The b2b-session
LOCATION:SASS
END:VEVENT
END:VCALENDAR


