BEGIN:VCALENDAR
VERSION:2.0
PRODID:-//hacksw/handcal//NONSGML v1.0//EN
BEGIN:VEVENT
UID:16301
DTSTART;VALUE=DATE:20230218
URL;VALUE=URI:ohschonhell.at/?page_id=36333
SUMMARY:LUCKY the TECHNO DUCK | Löwenzahn Special Event
LOCATION:Kramladen
END:VEVENT
END:VCALENDAR


