BEGIN:VCALENDAR
VERSION:2.0
PRODID:-//hacksw/handcal//NONSGML v1.0//EN
BEGIN:VEVENT
UID:16305
DTSTART;VALUE=DATE:20230303
URL;VALUE=URI:ohschonhell.at/?page_id=36341
SUMMARY:Double Dimension – 7 YEARS CRISPY CHAOS CREW
LOCATION:CAMERA CLUB
END:VEVENT
END:VCALENDAR


