BEGIN:VCALENDAR
VERSION:2.0
PRODID:-//hacksw/handcal//NONSGML v1.0//EN
BEGIN:VEVENT
UID:16322
DTSTART;VALUE=DATE:20230210
URL;VALUE=URI:ohschonhell.at/?page_id=36375
SUMMARY:Handselected w/ Siili x Flœr x Flani
LOCATION:SASS
END:VEVENT
END:VCALENDAR


