BEGIN:VCALENDAR
VERSION:2.0
PRODID:-//hacksw/handcal//NONSGML v1.0//EN
BEGIN:VEVENT
UID:16329
DTSTART;VALUE=DATE:20230205
URL;VALUE=URI:ohschonhell.at/?page_id=36391
SUMMARY:AFTERHOUR mit BUNKER MUKKE
LOCATION:Black Market
END:VEVENT
END:VCALENDAR


