BEGIN:VCALENDAR
VERSION:2.0
PRODID:-//hacksw/handcal//NONSGML v1.0//EN
BEGIN:VEVENT
UID:16330
DTSTART;VALUE=DATE:20230210
URL;VALUE=URI:ohschonhell.at/?page_id=36394
SUMMARY:Drumworks presents Maria Zue (Womandbass / Bogotá\, Colombia)
LOCATION:Black Market
END:VEVENT
END:VCALENDAR


