BEGIN:VCALENDAR
VERSION:2.0
PRODID:-//hacksw/handcal//NONSGML v1.0//EN
BEGIN:VEVENT
UID:16334
DTSTART;VALUE=DATE:20230218
URL;VALUE=URI:ohschonhell.at/?page_id=36406
SUMMARY:AFTERHOUR mit MISCHE b2b KEUNER
LOCATION:Black Market
END:VEVENT
END:VCALENDAR


