BEGIN:VCALENDAR
VERSION:2.0
PRODID:-//hacksw/handcal//NONSGML v1.0//EN
BEGIN:VEVENT
UID:16335
DTSTART;VALUE=DATE:20230219
URL;VALUE=URI:ohschonhell.at/?page_id=36409
SUMMARY:AFTERHOUR mit URRRS (Live) & Madwin
LOCATION:Black Market
END:VEVENT
END:VCALENDAR


