BEGIN:VCALENDAR
VERSION:2.0
PRODID:-//hacksw/handcal//NONSGML v1.0//EN
BEGIN:VEVENT
UID:16354
DTSTART;VALUE=DATE:20230216
URL;VALUE=URI:ohschonhell.at/?page_id=36448
SUMMARY:Donnerstrab
LOCATION:Der Ponyhof
END:VEVENT
END:VCALENDAR


