BEGIN:VCALENDAR
VERSION:2.0
PRODID:-//hacksw/handcal//NONSGML v1.0//EN
BEGIN:VEVENT
UID:16357
DTSTART;VALUE=DATE:20230224
URL;VALUE=URI:ohschonhell.at/?page_id=36454
SUMMARY:psY-tRibe-teK
LOCATION:Club Change
END:VEVENT
END:VCALENDAR


