BEGIN:VCALENDAR
VERSION:2.0
PRODID:-//hacksw/handcal//NONSGML v1.0//EN
BEGIN:VEVENT
UID:16362
DTSTART;VALUE=DATE:20230302
URL;VALUE=URI:ohschonhell.at/?page_id=36465
SUMMARY:DonnerstagNacht by Alecid (Purrdition / Traumata)
LOCATION:SASS
END:VEVENT
END:VCALENDAR


