BEGIN:VCALENDAR
VERSION:2.0
PRODID:-//hacksw/handcal//NONSGML v1.0//EN
BEGIN:VEVENT
UID:16369
DTSTART;VALUE=DATE:20230304
URL;VALUE=URI:ohschonhell.at/?page_id=36481
SUMMARY:GENERAL TECHNO DE-RESTORATION w/ Löwenzahn
LOCATION:Kramladen
END:VEVENT
END:VCALENDAR


