BEGIN:VCALENDAR
VERSION:2.0
PRODID:-//hacksw/handcal//NONSGML v1.0//EN
BEGIN:VEVENT
UID:16376
DTSTART;VALUE=DATE:20230304
URL;VALUE=URI:ohschonhell.at/?page_id=36496
SUMMARY:BLVZE x Pj Bridger (+98 Records\, Time Is Now)
LOCATION:Der Ponyhof
END:VEVENT
END:VCALENDAR


