BEGIN:VCALENDAR
VERSION:2.0
PRODID:-//hacksw/handcal//NONSGML v1.0//EN
BEGIN:VEVENT
UID:16387
DTSTART;VALUE=DATE:20230303
URL;VALUE=URI:ohschonhell.at/?page_id=36518
SUMMARY:UNITED TRANZIT w/ IGGY P
LOCATION:Der Ponyhof
END:VEVENT
END:VCALENDAR


