BEGIN:VCALENDAR
VERSION:2.0
PRODID:-//hacksw/handcal//NONSGML v1.0//EN
BEGIN:VEVENT
UID:1640
DTSTART;VALUE=DATE:20140713
URL;VALUE=URI:ohschonhell.at/?page_id=4198
SUMMARY:&quot\;Sonntags Sind Wir Anders&quot\; presented by WCDL ♥  Open Air ♥ Free Entry ♥
LOCATION:MARX RESTAURATION
END:VEVENT
END:VCALENDAR


