BEGIN:VCALENDAR
VERSION:2.0
PRODID:-//hacksw/handcal//NONSGML v1.0//EN
BEGIN:VEVENT
UID:16416
DTSTART;VALUE=DATE:20230318
URL;VALUE=URI:ohschonhell.at/?page_id=36578
SUMMARY:LOLLI DROP | hosted by GRENZWERT!G
LOCATION:Der Ponyhof
END:VEVENT
END:VCALENDAR


