BEGIN:VCALENDAR
VERSION:2.0
PRODID:-//hacksw/handcal//NONSGML v1.0//EN
BEGIN:VEVENT
UID:16425
DTSTART;VALUE=DATE:20230325
URL;VALUE=URI:ohschonhell.at/?page_id=36597
SUMMARY:Switch! feat. Merikan\, Primate\, MC Longman
LOCATION:FLEX
END:VEVENT
END:VCALENDAR


