BEGIN:VCALENDAR
VERSION:2.0
PRODID:-//hacksw/handcal//NONSGML v1.0//EN
BEGIN:VEVENT
UID:16427
DTSTART;VALUE=DATE:20230309
URL;VALUE=URI:ohschonhell.at/?page_id=36601
SUMMARY:Goa Thursday Freeparty
LOCATION:Club Change
END:VEVENT
END:VCALENDAR


