BEGIN:VCALENDAR
VERSION:2.0
PRODID:-//hacksw/handcal//NONSGML v1.0//EN
BEGIN:VEVENT
UID:16452
DTSTART;VALUE=DATE:20230305
URL;VALUE=URI:ohschonhell.at/?page_id=36654
SUMMARY:AFTERHOUR mit AKALI AKALI & CRYSTAL O
LOCATION:Black Market
END:VEVENT
END:VCALENDAR


