BEGIN:VCALENDAR
VERSION:2.0
PRODID:-//hacksw/handcal//NONSGML v1.0//EN
BEGIN:VEVENT
UID:16456
DTSTART;VALUE=DATE:20230304
URL;VALUE=URI:ohschonhell.at/?page_id=36662
SUMMARY:Aufgetaucht im Puff
LOCATION:Puff
END:VEVENT
END:VCALENDAR


