BEGIN:VCALENDAR
VERSION:2.0
PRODID:-//hacksw/handcal//NONSGML v1.0//EN
BEGIN:VEVENT
UID:16464
DTSTART;VALUE=DATE:20230312
URL;VALUE=URI:ohschonhell.at/?page_id=36680
SUMMARY:AFTERHOUR mit FRANJAZZCO & POLYXENE
LOCATION:Black Market
END:VEVENT
END:VCALENDAR


