BEGIN:VCALENDAR
VERSION:2.0
PRODID:-//hacksw/handcal//NONSGML v1.0//EN
BEGIN:VEVENT
UID:1647
DTSTART;VALUE=DATE:20140713
URL;VALUE=URI:ohschonhell.at/?page_id=4208
SUMMARY:ROOFTOP AFTERHOUR SESSION VIENNA
LOCATION:TECH GATE VIENNA
END:VEVENT
END:VCALENDAR


