BEGIN:VCALENDAR
VERSION:2.0
PRODID:-//hacksw/handcal//NONSGML v1.0//EN
BEGIN:VEVENT
UID:16470
DTSTART;VALUE=DATE:20230311
URL;VALUE=URI:ohschonhell.at/?page_id=36696
SUMMARY:WiENER GRANTiX // MAXiMO & MAD EAZ SPINNIN' IT UP
LOCATION:Black Market
END:VEVENT
END:VCALENDAR


